BEGIN:VCALENDAR
VERSION:2.0
PRODID:-//eventon.com NONSGML v1.0//EN
CALSCALE:GREGORIAN
METHOD:PUBLISH
BEGIN:VEVENT
UID:69e4d8f29958d
DTSTAMP:20260419T133026Z
DTSTART:20260420T070000Z
DTEND:20260420T080000Z
LOCATION:
SUMMARY:FREE INJURY CONSULT / GOOD GRIEF RUN CLUB
DESCRIPTION:Get Expert Answers at Our FREE Injury Consultation! Are you dea
 ling with nagging pain or an old injury that just won’t go away? Don’t 
 guess—get expert guidance from Dr. Hector Tricas\,  PT\,  DPT\,  PhD and
  Dr. Karan Singh\,  PT\,  DPT of Voltex Physical Therapy at Good Grief Ru
 n Club! 📅 Date: Monday\,  April[..]\nhttps://voltexpt.com/calendar/free-
 injury-consult-good-grief-run-club-5/
URL:https://voltexpt.com/calendar/free-injury-consult-good-grief-run-club-5/
END:VEVENT
END:VCALENDAR